BEGIN:VCALENDAR
VERSION:2.0
PRODID:-//wp-events-plugin.com//6.6.4//EN
TZID:America/Los_Angeles
X-WR-TIMEZONE:America/Los_Angeles
BEGIN:VEVENT
UID:5945@threatscenarios.com
DTSTART;TZID=America/Los_Angeles:20250510T140000
DTEND;TZID=America/Los_Angeles:20250510T180000
DTSTAMP:20241216T074549Z
URL:https://threatscenarios.com/classes/defensive-handgun-3-moving-and-sho
 oting-3/
SUMMARY:Defensive Handgun 3  "Moving and Shooting"
DESCRIPTION:Defensive Handgun 3 is designed for students who have an intere
 st in learning defensive shooting fundamentals working on things like\, Cl
 ose Quarters Defense (CQD) &amp\; CCW Handgun Defense\, Vehicle Dynamics (
 Self Defense from and around Vehicles)\, Home Defense Dynamics\, Active Sh
 ooter Defense and shooting in different and varied situations and circumst
 ances you might find yourself in every day life.\n\n (This is not a begin
 ner class)\n\nOver this course you will learn things such as:\n\n*Proper s
 tances and grips for defensive shooting\n*The concept of acceptable accura
 cy and target focused shooting techniques\n*CCW defense against weapons an
 d multiple attackers\n*Handgun retention techniques and strikes\n*Retentio
 n shooting and shooting on the move\n\nPrerequisites: \n\nDefensive Handg
 un 1 Next Steps Class with instructors approval\, Defensive Handgun 2/CCW 
 or Equivalent. \n\nAll students must be legally able to possess a firearm
  in the State of California.\nAdequate understanding of firearms safety ru
 les.\nAbility to safely and comfortably manipulate your firearm while usin
 g a holster. (if you are not comfortable with this\, please take Next Step
 s to get the proper training with holster before taking Defensive Handgun 
 3)\n\nWhat to Bring:\n\nGear: Ear protection (plugs or muffs)\, eye protec
 tion (wrap around glasses or glasses with some form of side protection pre
 ferred). Athletic shoes. It's an outdoor range so check the weather and dr
 ess accordingly. We run rain or shine.  \n\nFirearm: Bring a reliable se
 mi-automatic handgun And Rifle and at least 300 rounds of ammunition Each.
   \n\nA kydex-type\, hard side\, rigid holster and magazine pouches on a 
 belt. It is highly suggested that each student bring the gear that they ei
 ther carry or train with to get the most out of the class.  * Serpa-type 
 holsters are NOT allowed - if you have questions about this\, please ask. 
 * \n\n&nbsp\;\n\nClass Cost: $250.00\n\nClass with Handgun Rental kit (NO
  AMMO): $300.00\n\nClass with Handgun Rental kit AND Ammo: $360.00\n\n&nbs
 p\;
ATTACH;FMTTYPE=image/jpeg:https://threatscenarios.com/wp-content/uploads/2
 018/07/firststeps.jpg
CATEGORIES:Live Fire,Richmond
LOCATION:Richmond Rod and Gun Club\, 3155 Goodrick Ave\, Richmond\, CA\, 94
 801\,  \, United States
GEO:37.9767386;-122.36554669999998
X-APPLE-STRUCTURED-LOCATION;VALUE=URI;X-ADDRESS=3155 Goodrick Ave\, Richmon
 d\, CA\, 94801\,  \, United States;X-APPLE-RADIUS=100;X-TITLE=Richmond Rod
  and Gun Club:geo:37.9767386,-122.36554669999998
END:VEVENT
BEGIN:VTIMEZONE
TZID:America/Los_Angeles
X-LIC-LOCATION:America/Los_Angeles
BEGIN:DAYLIGHT
DTSTART:20250309T030000
TZOFFSETFROM:-0800
TZOFFSETTO:-0700
TZNAME:PDT
END:DAYLIGHT
END:VTIMEZONE
END:VCALENDAR