BEGIN:VCALENDAR
VERSION:2.0
PRODID:-//wp-events-plugin.com//6.6.4//EN
TZID:America/Los_Angeles
X-WR-TIMEZONE:America/Los_Angeles
BEGIN:VEVENT
UID:5749@threatscenarios.com
DTSTART;TZID=America/Los_Angeles:20211120T090000
DTEND;TZID=America/Los_Angeles:20211120T130000
DTSTAMP:20210928T050121Z
URL:https://threatscenarios.com/classes/defensive-handgun-3-nov/
SUMMARY:Defensive Handgun 3   "CQD-Close Quarters Defense"
DESCRIPTION:Defensive Handgun 3 is forever evolving and is designed for stu
 dents who have an interest in learning defensive shooting fundamentals wor
 king on things like\, Close Quarters Defense (CQD) &amp\; CCW Handgun Defe
 nse\, Vehicle Dynamics (Self Defense from and around Vehicles)\, Home Defe
 nse Dynamics\, Active Shooter Defense and shooting in different and varied
  situations and circumstances you might find yourself in every day life.\n
 \n (This is not a beginner class)\n\nOver this course you will learn thin
 gs such as:\n\n*Proper stances and grips for defensive shooting\n*The conc
 ept of acceptable accuracy and target focused shooting techniques\n*CCW de
 fense against weapons and multiple attackers\n*Handgun retention technique
 s and strikes\n*Retention shooting and shooting on the move\n\nPrerequisit
 es: \n\nDefensive Handgun 1 Next Steps Class with instructors approval\, 
 Defensive Handgun 2/CCW or Equivalent. \n\nAll students must be legally a
 ble to possess a firearm in the State of California.\nAdequate understandi
 ng of firearms safety rules.\nAbility to safely and comfortably manipulate
  your firearm while using a holster. (if you are not comfortable with this
 \, please take Next Steps to get the proper training with holster before t
 aking Defensive Handgun 3)\n\nWhat to Bring:\n\nGear: Ear protection (plug
 s or muffs)\, eye protection (wrap around glasses or glasses with some for
 m of side protection preferred). Athletic shoes. It's an outdoor range so 
 check the weather and dress accordingly. We run rain or shine.  \n\nFire
 arm: Bring a reliable semi-automatic handgun or revolver and at least 300 
 rounds of ammunition.  \n\nPersonal: Bring your own lunch (there will be 
 a 45 minute break). We are short driving distance from several restaurants
 . Snacks and water will be provided.\n\nSuggested: A kydex-type holster an
 d magazine pouches on a belt. It is highly suggested that each student bri
 ng the gear that they either carry or train with to get the most out of th
 e class.\n\nWhere to Go:\n\nWe will be using the Hillside Private Property
 \, which is located a short drive from central American Canyon. It is not 
 open to the public\, and its exact location will only be disclosed to stud
 ents of the class.  We will start at 2pm sharp and continue to around 6pm
 . Please try to arrive 15 minutes before the class starts.\n\nClass Cost: 
 $195.00\nHandgun Rental Kit: ADD $45.00  ($240.00 total)\nHandgun Rental 
 Kit WITH AMMO: ADD $110.00 to base price  ($305.00 total)
ATTACH;FMTTYPE=image/jpeg:https://threatscenarios.com/wp-content/uploads/2
 018/07/firststeps.jpg
CATEGORIES:Live Fire
LOCATION:Richmond Rod and Gun Club\, 3155 Goodrick Ave\, Richmond\, CA\, 94
 801\,  \, United States
GEO:37.9767386;-122.36554669999998
X-APPLE-STRUCTURED-LOCATION;VALUE=URI;X-ADDRESS=3155 Goodrick Ave\, Richmon
 d\, CA\, 94801\,  \, United States;X-APPLE-RADIUS=100;X-TITLE=Richmond Rod
  and Gun Club:geo:37.9767386,-122.36554669999998
END:VEVENT
BEGIN:VTIMEZONE
TZID:America/Los_Angeles
X-LIC-LOCATION:America/Los_Angeles
BEGIN:STANDARD
DTSTART:20211107T010000
TZOFFSETFROM:-0700
TZOFFSETTO:-0800
TZNAME:PST
END:STANDARD
END:VTIMEZONE
END:VCALENDAR