BEGIN:VCALENDAR
VERSION:2.0
PRODID:-//wp-events-plugin.com//6.6.4//EN
TZID:America/Los_Angeles
X-WR-TIMEZONE:America/Los_Angeles
BEGIN:VEVENT
UID:5776@threatscenarios.com
DTSTART;TZID=America/Los_Angeles:20220122T090000
DTEND;TZID=America/Los_Angeles:20220123T170000
DTSTAMP:20220120T071325Z
URL:https://threatscenarios.com/classes/defensive-handgun-ll-ccw-permit-pp
 oh-2-day-2/
SUMMARY:Defensive Handgun ll (CCW Permit/PPOH) 2-Day
DESCRIPTION:The Defensive Handgun II class often meets the requirements for
  obtaining a Carry Concealed Weapon (CCW) permit in many CA jurisdictions\
 , as well as in a number of other states. Through a combination of classro
 om and range training over two days\, we will cover the knowledge and skil
 ls required to carry a firearm for personal protection outside the home.\n
 \nWe follow the NRA CCW Course. Upon completing the class\, you will recei
 ve a certificate from 29 Outdoor Gear\, an FFL and approved training provi
 der for Napa\, Solano\, and Sonoma County Sheriff's Departments\, and City
  of Napa Police Department. Several other law enforcement agencies recogni
 ze our CCW training as well. Threat Scenarios is the affiliate training or
 ganization of 29 Outdoor Gear with the same management. Through a partners
 hip with Down Range Logistics\, our CCW training is also recognized by the
  Sacramento\, Yolo\, and El Dorado County Sheriff's Departments.\n\nDay 1 
 (8-Hours Classroom):\n\nStudents will:\n*Learn ethical responsibility\, de
 fensive mindset/awareness\, and how to avoid\, respond to and control an e
 ncounter.\n*Discuss legal considerations including proportionate use of fo
 rce\, CCW insurance\, and the aftermath of a shooting.\n*Prepare a plan in
 cluding firearm/holster selection\, and good habits such as scanning and a
 ssessing the environment.\n\nDay 2 (8-Hours Range):\n\nWhile emphasizing s
 afety\, students will:\n*Improve draw\, accuracy\, speed shooting\, and ta
 rget acquisition skills (including point shooting).\n*Move to\, use\, and 
 shoot from behind cover.\n*Practice response drills (left\, right\, rear)\
 , and retention shots.\n\nThe Defensive Handgun series is designed to take
  students from static line shooting into applying their skills in a real w
 orld environment.  Through the supervision of our instructors\, you will 
 learn how to fight back with a firearm while under stress.\n\nPrerequisite
 s:\n\nIdeally\, the student should have a working knowledge of handguns\, 
 their safe handling\, and some experience. However\, due to the high instr
 uctor-to-student ratio and small class size\, we often are able to adapt t
 o those with little or no experience. Students who do not demonstrate an a
 dequate level of safety or comprehension of the class material may be invi
 ted to return to a later class after completing some additional training.\
 n\nWhat to Bring:\n\nGear: Ear protection (electronic is preferred)\, eye 
 protection (wrap around glasses or glasses with some form of side protecti
 on preferred)\; athletic shoes\, boots\, or cleats.\nWe shoot outdoors so 
 check the weather and dress accordingly. Class will proceed rain or shine\
 , unless the conditions become unsafe.\n\nFirearm: Reliable semi-automatic
  handgun or revolver with three or more magazines (or speed loaders\, for 
 revolvers). \n\nHolster: A rigid OUTSIDE THE WAISTBAND holster that does n
 ot collapse when the firearm is removed\, and at least two magazine or spe
 ed loader pouches. Holsters must be worn on the hip or thigh on the strong
  side\; and magazine holders must be worn on the belt.\n\nAmmo: At least 3
 50 rounds for the various drills we fire during class.  Additionally\, y
 ou will need 100 rounds per handgun for the qualification test\; you must 
 shoot and qualify with each gun you want listed on your permit\, and you'r
 e allowed to shoot it twice per gun for a passing score (the qualification
  course of fire if 50 rounds). Some people shoot/reload faster than others
 . How much ammunition you want to use is up to you.\n\nPersonal: Lunch is 
 provided both days for students attending both days (there will be a 30 mi
 nute break).  All others should bring their own lunch as there is not eno
 ugh time to leave and return.\nCold water will be provided.\n\nFor those t
 hat want to take either the class (or range day portion) without applying 
 for a CCW\, rental firearm packages are available. Each package contains a
  modern\, reliable handgun such as a Glock\, three magazines\, electronic 
 ear protection\, safety glasses\, and speed loader. The rental package is 
 $45 for the day. If you would like to reserve a rental package\, select th
 e appropriate ticket option after clicking the red 'Book Now' button below
 .\n\nWhere to Go:\n\nWe will be using the Hillside Private Property\, whic
 h is located a short drive from central American Canyon. It is not open to
  the public\, and its exact location will only be disclosed to students of
  the class. Registered students will receive an email from staff about 1 w
 eek prior to class.\nWe will start at 9am sharp and continue to around 5pm
 . Please try to arrive 15 minutes before the class starts.\n\nFor addition
 al questions about our CCW classes\, please view our FAQ.\n\nThis class wi
 ll run all day Saturday and all day Sunday for a total of two days. RENEWA
 LS- click "Book now" and one-day options will come up.\n\nCLASS COST: $3
 25.00 for full 2 day course\n$195.00 for 8 hour range day/renewal session\
 n$150.00 for 4 hour range day/renewal session\n$45.00 for handgun rental k
 it (gun\, magazines\, eye and ear protection)\n
ATTACH;FMTTYPE=image/jpeg:https://threatscenarios.com/wp-content/uploads/2
 018/07/defensivehandgun2.jpg
CATEGORIES:Live Fire
LOCATION:RIchmond Rod &amp\; Gun Club\, 3155 Goodrick Avenue\, Richmond\, C
 alifornia\, 94801\, Contra Costa County\, United States
GEO:37.980601;-122.364908
X-APPLE-STRUCTURED-LOCATION;VALUE=URI;X-ADDRESS=3155 Goodrick Avenue\, Rich
 mond\, California\, 94801\, Contra Costa County\, United States;X-APPLE-RA
 DIUS=100;X-TITLE=RIchmond Rod & Gun Club:geo:37.980601,-122.364908
END:VEVENT
BEGIN:VTIMEZONE
TZID:America/Los_Angeles
X-LIC-LOCATION:America/Los_Angeles
BEGIN:STANDARD
DTSTART:20211107T010000
TZOFFSETFROM:-0700
TZOFFSETTO:-0800
TZNAME:PST
END:STANDARD
END:VTIMEZONE
END:VCALENDAR