BEGIN:VCALENDAR
VERSION:2.0
PRODID:-//wp-events-plugin.com//6.6.4//EN
TZID:America/Los_Angeles
X-WR-TIMEZONE:America/Los_Angeles
BEGIN:VEVENT
UID:5505@threatscenarios.com
DTSTART;TZID=America/Los_Angeles:20200119T090000
DTEND;TZID=America/Los_Angeles:20200119T170000
DTSTAMP:20210117T184209Z
URL:https://threatscenarios.com/classes/defensive-scenarios-jan-19/
SUMMARY:Defensive Scenarios
DESCRIPTION:Our Defensive Scenarios class is ideal for those who plan on de
 fending themselves or others\, in a potentially lethal encounter. You will
  engage in four or more different real-world scenarios which will involve 
 you either carrying or having access to a handgun or rifle. These are not 
 simply a "shoot/no-shoot" exercises. Our dedicated roleplayers are not jus
 t living targets. They are characters\, all of whom have different priorit
 ies and motivations. Some will run\, some will fight\, some will negotiate
 . All will react to you\, including how you carry yourself and when and if
  you decide to draw and shoot. There are multiple paths to choose\, and ea
 ch choice will be discussed at length in a group setting with students and
  staff.\n\nYou will be provided with all equipment necessary for the class
 \, including a UTM converted Glock 17 pistol &amp\; AR-15 rifle\, an appro
 ved full cheek-weld UTM certified safety mask\, helmet\, groin protection\
 , and gloves. Lunch and water/snacks are also included.\n\nWe will start a
 t 9am sharp and continue to around 5pm. Please try to arrive 15 minutes be
 fore the class starts.\n\nWe've listed some basic skill expectations below
 . For more details on our rules\, please see our FAQ.\n\nPrerequisites:\n\
 nLegal ownership of a handgun.\nAbility to safely navigate a shoothouse co
 urse under stress.\nBe over 18 years of age or make written arrangement to
  accompany a minor.  Email training@threatscenarios.com for arrangements
 .\n\nWhat to Bring:\n\nAthletic shoes and long socks (we provide all the n
 ecessary protective equipment).\n\nWhere to Go:\n\nOur Shoothouse is loca
 ted in  Novoto\, CA near the US-101 &amp\; CA-37 intersection (location w
 ill be disclosed to those attending the class).
ATTACH;FMTTYPE=image/jpeg:https://threatscenarios.com/wp-content/uploads/2
 016/12/TS16.jpg
CATEGORIES:Force on Force
LOCATION:Novato Shoothouse\, US-101N\, Novato\, CA\, 94949\, United States
GEO:38.061836;-122.533638
X-APPLE-STRUCTURED-LOCATION;VALUE=URI;X-ADDRESS=US-101N\, Novato\, CA\, 949
 49\, United States;X-APPLE-RADIUS=100;X-TITLE=Novato Shoothouse:geo:38.061
 836,-122.533638
END:VEVENT
BEGIN:VTIMEZONE
TZID:America/Los_Angeles
X-LIC-LOCATION:America/Los_Angeles
BEGIN:STANDARD
DTSTART:20191103T010000
TZOFFSETFROM:-0700
TZOFFSETTO:-0800
TZNAME:PST
END:STANDARD
END:VTIMEZONE
END:VCALENDAR